BEGIN:VCALENDAR
VERSION:2.0
PRODID:JMS Hockey
X-PUBLISHED-TTL:P1W
BEGIN:VEVENT
UID:69e7a355d9144
DTSTART:20141004T011000Z
SEQUENCE:0
TRANSP:OPAQUE
DTEND:20141004T024000Z
URL:http://jmshockey.com/games/6738
LOCATION:Schwan Superrink
SUMMARY:All level Game at Schwan Superrink
CLASS:PUBLIC
DTSTAMP:20260421T111829Z
END:VEVENT
END:VCALENDAR