BEGIN:VCALENDAR
VERSION:2.0
PRODID:JMS Hockey
X-PUBLISHED-TTL:P1W
BEGIN:VEVENT
UID:69e7959d421ce
DTSTART:20141227T031000Z
SEQUENCE:0
TRANSP:OPAQUE
DTEND:20141227T044000Z
URL:http://jmshockey.com/games/6737
LOCATION:Schwan Superrink
SUMMARY:All level Game at Schwan Superrink
CLASS:PUBLIC
DTSTAMP:20260421T101957Z
END:VEVENT
END:VCALENDAR