BEGIN:VCALENDAR
VERSION:2.0
PRODID:JMS Hockey
X-PUBLISHED-TTL:P1W
BEGIN:VEVENT
UID:69e79a00b5d62
DTSTART:20141019T030000Z
SEQUENCE:0
TRANSP:OPAQUE
DTEND:20141019T043000Z
URL:http://jmshockey.com/games/6732
LOCATION:St Thomas Ice Arena
SUMMARY:All level Game at St Thomas Ice Arena
CLASS:PUBLIC
DTSTAMP:20260421T103840Z
END:VEVENT
END:VCALENDAR