BEGIN:VCALENDAR
VERSION:2.0
PRODID:JMS Hockey
X-PUBLISHED-TTL:P1W
BEGIN:VEVENT
UID:69e79bac0eec1
DTSTART:20141003T024000Z
SEQUENCE:0
TRANSP:OPAQUE
DTEND:20141003T041000Z
URL:http://jmshockey.com/games/6725
LOCATION:St Thomas Ice Arena
SUMMARY:All level Game at St Thomas Ice Arena
CLASS:PUBLIC
DTSTAMP:20260421T104548Z
END:VEVENT
END:VCALENDAR