BEGIN:VCALENDAR
VERSION:2.0
PRODID:JMS Hockey
X-PUBLISHED-TTL:P1W
BEGIN:VEVENT
UID:69e7cb2bcc190
DTSTART:20141101T031500Z
SEQUENCE:0
TRANSP:OPAQUE
DTEND:20141101T044500Z
URL:http://jmshockey.com/games/6710
LOCATION:Roseville Skating Center
SUMMARY:Lower Level Game at Roseville Skating Center
CLASS:PUBLIC
DTSTAMP:20260421T140827Z
END:VEVENT
END:VCALENDAR