BEGIN:VCALENDAR
VERSION:2.0
PRODID:JMS Hockey
X-PUBLISHED-TTL:P1W
BEGIN:VEVENT
UID:69e797a4dbdad
DTSTART:20141022T020000Z
SEQUENCE:0
TRANSP:OPAQUE
DTEND:20141022T033000Z
URL:http://jmshockey.com/games/6709
LOCATION:Polar Arena
SUMMARY:Lower Level Game at Polar Arena
CLASS:PUBLIC
DTSTAMP:20260421T102836Z
END:VEVENT
END:VCALENDAR