BEGIN:VCALENDAR
VERSION:2.0
PRODID:JMS Hockey
X-PUBLISHED-TTL:P1W
BEGIN:VEVENT
UID:69e79a26e7b91
DTSTART:20141011T021500Z
SEQUENCE:0
TRANSP:OPAQUE
DTEND:20141011T034500Z
URL:http://jmshockey.com/games/6700
LOCATION:Parade Ice Gardens
SUMMARY:Novice Game at Parade Ice Gardens
CLASS:PUBLIC
DTSTAMP:20260421T103918Z
END:VEVENT
END:VCALENDAR