BEGIN:VCALENDAR
VERSION:2.0
PRODID:JMS Hockey
X-PUBLISHED-TTL:P1W
BEGIN:VEVENT
UID:69e7c354e5fc0
DTSTART:20141021T020000Z
SEQUENCE:0
TRANSP:OPAQUE
DTEND:20141021T033000Z
URL:http://jmshockey.com/games/6696
LOCATION:Northeast Arena
SUMMARY:Intermediate Game at Northeast Arena
CLASS:PUBLIC
DTSTAMP:20260421T133500Z
END:VEVENT
END:VCALENDAR