BEGIN:VCALENDAR
VERSION:2.0
PRODID:JMS Hockey
X-PUBLISHED-TTL:P1W
BEGIN:VEVENT
UID:69e7cb928e02f
DTSTART:20141022T020000Z
SEQUENCE:0
TRANSP:OPAQUE
DTEND:20141022T033000Z
URL:http://jmshockey.com/games/6695
LOCATION:Maple Grove
SUMMARY:Intermediate Game at Maple Grove
CLASS:PUBLIC
DTSTAMP:20260421T141010Z
END:VEVENT
END:VCALENDAR