BEGIN:VCALENDAR
VERSION:2.0
PRODID:JMS Hockey
X-PUBLISHED-TTL:P1W
BEGIN:VEVENT
UID:69e781a5a35f8
DTSTART:20141030T023000Z
SEQUENCE:0
TRANSP:OPAQUE
DTEND:20141030T040000Z
URL:http://jmshockey.com/games/6692
LOCATION:Maple Grove
SUMMARY:Upper Level Game at Maple Grove
CLASS:PUBLIC
DTSTAMP:20260421T085445Z
END:VEVENT
END:VCALENDAR