BEGIN:VCALENDAR
VERSION:2.0
PRODID:JMS Hockey
X-PUBLISHED-TTL:P1W
BEGIN:VEVENT
UID:69e7e66f0e789
DTSTART:20090630T011500Z
SEQUENCE:0
TRANSP:OPAQUE
DTEND:20090630T024500Z
URL:http://jmshockey.com/games/669
LOCATION:New Hope Ice Arena
SUMMARY:Level 4 Game at New Hope Ice Arena
CLASS:PUBLIC
DTSTAMP:20260421T160447Z
END:VEVENT
END:VCALENDAR