BEGIN:VCALENDAR
VERSION:2.0
PRODID:JMS Hockey
X-PUBLISHED-TTL:P1W
BEGIN:VEVENT
UID:69e7ef4b314cd
DTSTART:20090630T001500Z
SEQUENCE:0
TRANSP:OPAQUE
DTEND:20090630T014500Z
URL:http://jmshockey.com/games/668
LOCATION:Roseville Skating Center
SUMMARY:Level 3 Game at Roseville Skating Center
CLASS:PUBLIC
DTSTAMP:20260421T164235Z
END:VEVENT
END:VCALENDAR