BEGIN:VCALENDAR
VERSION:2.0
PRODID:JMS Hockey
X-PUBLISHED-TTL:P1W
BEGIN:VEVENT
UID:69e795d71ba96
DTSTART:20150307T014500Z
SEQUENCE:0
TRANSP:OPAQUE
DTEND:20150307T031500Z
URL:http://jmshockey.com/games/6670
LOCATION:Breck Anderson Arena
SUMMARY:Novice Game at Breck Anderson Arena
CLASS:PUBLIC
DTSTAMP:20260421T102055Z
END:VEVENT
END:VCALENDAR