BEGIN:VCALENDAR
VERSION:2.0
PRODID:JMS Hockey
X-PUBLISHED-TTL:P1W
BEGIN:VEVENT
UID:69e7c2f4ed5ae
DTSTART:20090630T004500Z
SEQUENCE:0
TRANSP:OPAQUE
DTEND:20090630T021500Z
URL:http://jmshockey.com/games/667
LOCATION:St Thomas Ice Arena
SUMMARY:Level 1 Game at St Thomas Ice Arena
CLASS:PUBLIC
DTSTAMP:20260421T133324Z
END:VEVENT
END:VCALENDAR