BEGIN:VCALENDAR
VERSION:2.0
PRODID:JMS Hockey
X-PUBLISHED-TTL:P1W
BEGIN:VEVENT
UID:69e7e6d223138
DTSTART:20141209T034500Z
SEQUENCE:0
TRANSP:OPAQUE
DTEND:20141209T051500Z
URL:http://jmshockey.com/games/6666
LOCATION:Augsburg
SUMMARY:Intermediate Game at Augsburg
CLASS:PUBLIC
DTSTAMP:20260421T160626Z
END:VEVENT
END:VCALENDAR