BEGIN:VCALENDAR
VERSION:2.0
PRODID:JMS Hockey
X-PUBLISHED-TTL:P1W
BEGIN:VEVENT
UID:69e7ad9aa205a
DTSTART:20141028T024500Z
SEQUENCE:0
TRANSP:OPAQUE
DTEND:20141028T041500Z
URL:http://jmshockey.com/games/6665
LOCATION:Northeast Arena
SUMMARY:Intermediate Game at Northeast Arena
CLASS:PUBLIC
DTSTAMP:20260421T120218Z
END:VEVENT
END:VCALENDAR