BEGIN:VCALENDAR
VERSION:2.0
PRODID:JMS Hockey
X-PUBLISHED-TTL:P1W
BEGIN:VEVENT
UID:69e787b7a4391
DTSTART:20140928T020000Z
SEQUENCE:0
TRANSP:OPAQUE
DTEND:20140928T033000Z
URL:http://jmshockey.com/games/6661
LOCATION:St Thomas Ice Arena
SUMMARY:All level Game at St Thomas Ice Arena
CLASS:PUBLIC
DTSTAMP:20260421T092039Z
END:VEVENT
END:VCALENDAR