BEGIN:VCALENDAR
VERSION:2.0
PRODID:JMS Hockey
X-PUBLISHED-TTL:P1W
BEGIN:VEVENT
UID:69e7a7cd4ac4b
DTSTART:20140916T024500Z
SEQUENCE:0
TRANSP:OPAQUE
DTEND:20140916T041500Z
URL:http://jmshockey.com/games/6651
LOCATION:Augsburg
SUMMARY:Intermediate Game at Augsburg
CLASS:PUBLIC
DTSTAMP:20260421T113733Z
END:VEVENT
END:VCALENDAR