BEGIN:VCALENDAR
VERSION:2.0
PRODID:JMS Hockey
X-PUBLISHED-TTL:P1W
BEGIN:VEVENT
UID:69e7a79062124
DTSTART:20141027T030000Z
SEQUENCE:0
TRANSP:OPAQUE
DTEND:20141027T043000Z
URL:http://jmshockey.com/games/6637
LOCATION:Minnehaha Academy
SUMMARY:Lower Level Game at Minnehaha Academy
CLASS:PUBLIC
DTSTAMP:20260421T113632Z
END:VEVENT
END:VCALENDAR