BEGIN:VCALENDAR
VERSION:2.0
PRODID:JMS Hockey
X-PUBLISHED-TTL:P1W
BEGIN:VEVENT
UID:69e7cb35e6cc5
DTSTART:20140920T014500Z
SEQUENCE:0
TRANSP:OPAQUE
DTEND:20140920T031500Z
URL:http://jmshockey.com/games/6629
LOCATION:St Louis Park Rec Center
SUMMARY:Upper Level Game at St Louis Park Rec Center
CLASS:PUBLIC
DTSTAMP:20260421T140837Z
END:VEVENT
END:VCALENDAR