BEGIN:VCALENDAR
VERSION:2.0
PRODID:JMS Hockey
X-PUBLISHED-TTL:P1W
BEGIN:VEVENT
UID:69e79a2f17350
DTSTART:20140910T013000Z
SEQUENCE:0
TRANSP:OPAQUE
DTEND:20140910T030000Z
URL:http://jmshockey.com/games/6626
LOCATION:St Louis Park Rec Center
SUMMARY:Upper Level Game at St Louis Park Rec Center
CLASS:PUBLIC
DTSTAMP:20260421T103927Z
END:VEVENT
END:VCALENDAR