BEGIN:VCALENDAR
VERSION:2.0
PRODID:JMS Hockey
X-PUBLISHED-TTL:P1W
BEGIN:VEVENT
UID:69e7a542c1c71
DTSTART:20140927T010000Z
SEQUENCE:0
TRANSP:OPAQUE
DTEND:20140927T023000Z
URL:http://jmshockey.com/games/6623
LOCATION:St Louis Park Rec Center
SUMMARY:Upper Level Game at St Louis Park Rec Center
CLASS:PUBLIC
DTSTAMP:20260421T112642Z
END:VEVENT
END:VCALENDAR