BEGIN:VCALENDAR
VERSION:2.0
PRODID:JMS Hockey
X-PUBLISHED-TTL:P1W
BEGIN:VEVENT
UID:69e7c523b3b2a
DTSTART:20140924T021500Z
SEQUENCE:0
TRANSP:OPAQUE
DTEND:20140924T034500Z
URL:http://jmshockey.com/games/6620
LOCATION:Maple Grove
SUMMARY:Intermediate Game at Maple Grove
CLASS:PUBLIC
DTSTAMP:20260421T134243Z
END:VEVENT
END:VCALENDAR