BEGIN:VCALENDAR
VERSION:2.0
PRODID:JMS Hockey
X-PUBLISHED-TTL:P1W
BEGIN:VEVENT
UID:69e7cb5399bff
DTSTART:20140913T012000Z
SEQUENCE:0
TRANSP:OPAQUE
DTEND:20140913T025000Z
URL:http://jmshockey.com/games/6610
LOCATION:Schwan Superrink
SUMMARY:All level Game at Schwan Superrink
CLASS:PUBLIC
DTSTAMP:20260421T140907Z
END:VEVENT
END:VCALENDAR