BEGIN:VCALENDAR
VERSION:2.0
PRODID:JMS Hockey
X-PUBLISHED-TTL:P1W
BEGIN:VEVENT
UID:69e7b39de2856
DTSTART:20140927T015000Z
SEQUENCE:0
TRANSP:OPAQUE
DTEND:20140927T032000Z
URL:http://jmshockey.com/games/6608
LOCATION:Schwan Superrink
SUMMARY:All level Game at Schwan Superrink
CLASS:PUBLIC
DTSTAMP:20260421T122757Z
END:VEVENT
END:VCALENDAR