BEGIN:VCALENDAR
VERSION:2.0
PRODID:JMS Hockey
X-PUBLISHED-TTL:P1W
BEGIN:VEVENT
UID:69e7e984035bf
DTSTART:20140920T010000Z
SEQUENCE:0
TRANSP:OPAQUE
DTEND:20140920T023000Z
URL:http://jmshockey.com/games/6593
LOCATION:Eden Prairie Comm Ctr
SUMMARY:Intermediate Game at Eden Prairie Comm Ctr
CLASS:PUBLIC
DTSTAMP:20260421T161756Z
END:VEVENT
END:VCALENDAR