BEGIN:VCALENDAR
VERSION:2.0
PRODID:JMS Hockey
X-PUBLISHED-TTL:P1W
BEGIN:VEVENT
UID:69e7a771a66ef
DTSTART:20140808T010000Z
SEQUENCE:0
TRANSP:OPAQUE
DTEND:20140808T023000Z
URL:http://jmshockey.com/games/6583
LOCATION:Moose Sherritt Ice Arena
SUMMARY:All level Game at Moose Sherritt Ice Arena
CLASS:PUBLIC
DTSTAMP:20260421T113601Z
END:VEVENT
END:VCALENDAR