BEGIN:VCALENDAR
VERSION:2.0
PRODID:JMS Hockey
X-PUBLISHED-TTL:P1W
BEGIN:VEVENT
UID:69e7f86f388eb
DTSTART:20140923T024000Z
SEQUENCE:0
TRANSP:OPAQUE
DTEND:20140923T041000Z
URL:http://jmshockey.com/games/6581
LOCATION:Inver Grove Heights Community Center
SUMMARY:Lower Level Game at Inver Grove Heights Community Center
CLASS:PUBLIC
DTSTAMP:20260421T172135Z
END:VEVENT
END:VCALENDAR