BEGIN:VCALENDAR
VERSION:2.0
PRODID:JMS Hockey
X-PUBLISHED-TTL:P1W
BEGIN:VEVENT
UID:69e79f4d74048
DTSTART:20140918T024000Z
SEQUENCE:0
TRANSP:OPAQUE
DTEND:20140918T041000Z
URL:http://jmshockey.com/games/6580
LOCATION:Inver Grove Heights Community Center
SUMMARY:Level 3 Game at Inver Grove Heights Community Center
CLASS:PUBLIC
DTSTAMP:20260421T110117Z
END:VEVENT
END:VCALENDAR