BEGIN:VCALENDAR
VERSION:2.0
PRODID:JMS Hockey
X-PUBLISHED-TTL:P1W
BEGIN:VEVENT
UID:69e7ca81d36da
DTSTART:20140904T024000Z
SEQUENCE:0
TRANSP:OPAQUE
DTEND:20140904T041000Z
URL:http://jmshockey.com/games/6576
LOCATION:Inver Grove Heights Community Center
SUMMARY:Level 3 Game at Inver Grove Heights Community Center
CLASS:PUBLIC
DTSTAMP:20260421T140537Z
END:VEVENT
END:VCALENDAR