BEGIN:VCALENDAR
VERSION:2.0
PRODID:JMS Hockey
X-PUBLISHED-TTL:P1W
BEGIN:VEVENT
UID:69e7c6ea3c1d8
DTSTART:20140801T014500Z
SEQUENCE:0
TRANSP:OPAQUE
DTEND:20140801T031500Z
URL:http://jmshockey.com/games/6569
LOCATION:Moose Sherritt Ice Arena
SUMMARY:All level Game at Moose Sherritt Ice Arena
CLASS:PUBLIC
DTSTAMP:20260421T135018Z
END:VEVENT
END:VCALENDAR