BEGIN:VCALENDAR
VERSION:2.0
PRODID:JMS Hockey
X-PUBLISHED-TTL:P1W
BEGIN:VEVENT
UID:69e7b1021bc33
DTSTART:20140818T013000Z
SEQUENCE:0
TRANSP:OPAQUE
DTEND:20140818T030000Z
URL:http://jmshockey.com/games/6564
LOCATION:Roseville Skating Center
SUMMARY:All level Game at Roseville Skating Center
CLASS:PUBLIC
DTSTAMP:20260421T121650Z
END:VEVENT
END:VCALENDAR