BEGIN:VCALENDAR
VERSION:2.0
PRODID:JMS Hockey
X-PUBLISHED-TTL:P1W
BEGIN:VEVENT
UID:69e7ce8858509
DTSTART:20140704T011500Z
SEQUENCE:0
TRANSP:OPAQUE
DTEND:20140704T024500Z
URL:http://jmshockey.com/games/6548
LOCATION:Moose Sherritt Ice Arena
SUMMARY:All level Game at Moose Sherritt Ice Arena
CLASS:PUBLIC
DTSTAMP:20260421T142248Z
END:VEVENT
END:VCALENDAR