BEGIN:VCALENDAR
VERSION:2.0
PRODID:JMS Hockey
X-PUBLISHED-TTL:P1W
BEGIN:VEVENT
UID:69e7a307ce6dc
DTSTART:20140805T003000Z
SEQUENCE:0
TRANSP:OPAQUE
DTEND:20140805T020000Z
URL:http://jmshockey.com/games/6540
LOCATION:Doug Woog Arena (Wakota)
SUMMARY:Lower Level Game at Doug Woog Arena (Wakota)
CLASS:PUBLIC
DTSTAMP:20260421T111711Z
END:VEVENT
END:VCALENDAR