BEGIN:VCALENDAR
VERSION:2.0
PRODID:JMS Hockey
X-PUBLISHED-TTL:P1W
BEGIN:VEVENT
UID:69e7b9adc9f46
DTSTART:20140731T000000Z
SEQUENCE:0
TRANSP:OPAQUE
DTEND:20140731T013000Z
URL:http://jmshockey.com/games/6538
LOCATION:Doug Woog Arena (Wakota)
SUMMARY:Level 3 Game at Doug Woog Arena (Wakota)
CLASS:PUBLIC
DTSTAMP:20260421T125349Z
END:VEVENT
END:VCALENDAR