BEGIN:VCALENDAR
VERSION:2.0
PRODID:JMS Hockey
X-PUBLISHED-TTL:P1W
BEGIN:VEVENT
UID:69e7b9b87b537
DTSTART:20140703T000000Z
SEQUENCE:0
TRANSP:OPAQUE
DTEND:20140703T013000Z
URL:http://jmshockey.com/games/6527
LOCATION:Doug Woog Arena (Wakota)
SUMMARY:Level 3 Game at Doug Woog Arena (Wakota)
CLASS:PUBLIC
DTSTAMP:20260421T125400Z
END:VEVENT
END:VCALENDAR