BEGIN:VCALENDAR
VERSION:2.0
PRODID:JMS Hockey
X-PUBLISHED-TTL:P1W
BEGIN:VEVENT
UID:69e7a77d1fc8d
DTSTART:20140719T011500Z
SEQUENCE:0
TRANSP:OPAQUE
DTEND:20140719T024500Z
URL:http://jmshockey.com/games/6522
LOCATION:Roseville Skating Center
SUMMARY:Lower Level Game at Roseville Skating Center
CLASS:PUBLIC
DTSTAMP:20260421T113613Z
END:VEVENT
END:VCALENDAR