BEGIN:VCALENDAR
VERSION:2.0
PRODID:JMS Hockey
X-PUBLISHED-TTL:P1W
BEGIN:VEVENT
UID:69e7adbeace67
DTSTART:20140708T020000Z
SEQUENCE:0
TRANSP:OPAQUE
DTEND:20140708T033000Z
URL:http://jmshockey.com/games/6507
LOCATION:Roseville Skating Center
SUMMARY:Novice Game at Roseville Skating Center
CLASS:PUBLIC
DTSTAMP:20260421T120254Z
END:VEVENT
END:VCALENDAR