BEGIN:VCALENDAR
VERSION:2.0
PRODID:JMS Hockey
X-PUBLISHED-TTL:P1W
BEGIN:VEVENT
UID:69e79a14105a8
DTSTART:20140621T010000Z
SEQUENCE:0
TRANSP:OPAQUE
DTEND:20140621T023000Z
URL:http://jmshockey.com/games/6494
LOCATION:Apple Valley Hayes Park Arena
SUMMARY:Lower Level Game at Apple Valley Hayes Park Arena
CLASS:PUBLIC
DTSTAMP:20260421T103900Z
END:VEVENT
END:VCALENDAR