BEGIN:VCALENDAR
VERSION:2.0
PRODID:JMS Hockey
X-PUBLISHED-TTL:P1W
BEGIN:VEVENT
UID:69e7879b3e26f
DTSTART:20140616T013000Z
SEQUENCE:0
TRANSP:OPAQUE
DTEND:20140616T030000Z
URL:http://jmshockey.com/games/6488
LOCATION:Roseville Skating Center
SUMMARY:All level Game at Roseville Skating Center
CLASS:PUBLIC
DTSTAMP:20260421T092011Z
END:VEVENT
END:VCALENDAR