BEGIN:VCALENDAR
VERSION:2.0
PRODID:JMS Hockey
X-PUBLISHED-TTL:P1W
BEGIN:VEVENT
UID:69e7a368ddc3a
DTSTART:20140606T011000Z
SEQUENCE:0
TRANSP:OPAQUE
DTEND:20140606T024000Z
URL:http://jmshockey.com/games/6483
LOCATION:Roseville Skating Center
SUMMARY:Upper Level Game at Roseville Skating Center
CLASS:PUBLIC
DTSTAMP:20260421T111848Z
END:VEVENT
END:VCALENDAR