BEGIN:VCALENDAR
VERSION:2.0
PRODID:JMS Hockey
X-PUBLISHED-TTL:P1W
BEGIN:VEVENT
UID:69e7cb338cee8
DTSTART:20140620T014500Z
SEQUENCE:0
TRANSP:OPAQUE
DTEND:20140620T031500Z
URL:http://jmshockey.com/games/6478
LOCATION:Moose Sherritt Ice Arena
SUMMARY:All level Game at Moose Sherritt Ice Arena
CLASS:PUBLIC
DTSTAMP:20260421T140835Z
END:VEVENT
END:VCALENDAR