BEGIN:VCALENDAR
VERSION:2.0
PRODID:JMS Hockey
X-PUBLISHED-TTL:P1W
BEGIN:VEVENT
UID:69e7adb7afe06
DTSTART:20140523T004500Z
SEQUENCE:0
TRANSP:OPAQUE
DTEND:20140523T021500Z
URL:http://jmshockey.com/games/6469
LOCATION:Woodbury Bielenberg
SUMMARY:Lower Level Game at Woodbury Bielenberg
CLASS:PUBLIC
DTSTAMP:20260421T120247Z
END:VEVENT
END:VCALENDAR