BEGIN:VCALENDAR
VERSION:2.0
PRODID:JMS Hockey
X-PUBLISHED-TTL:P1W
BEGIN:VEVENT
UID:69e7adb4da442
DTSTART:20140816T014500Z
SEQUENCE:0
TRANSP:OPAQUE
DTEND:20140816T031500Z
URL:http://jmshockey.com/games/6463
LOCATION:Eden Prairie Comm Ctr
SUMMARY:Intermediate Game at Eden Prairie Comm Ctr
CLASS:PUBLIC
DTSTAMP:20260421T120244Z
END:VEVENT
END:VCALENDAR