BEGIN:VCALENDAR
VERSION:2.0
PRODID:JMS Hockey
X-PUBLISHED-TTL:P1W
BEGIN:VEVENT
UID:69e7d497ba749
DTSTART:20140628T013000Z
SEQUENCE:0
TRANSP:OPAQUE
DTEND:20140628T030000Z
URL:http://jmshockey.com/games/6457
LOCATION:Eden Prairie Comm Ctr
SUMMARY:Intermediate Game at Eden Prairie Comm Ctr
CLASS:PUBLIC
DTSTAMP:20260421T144839Z
END:VEVENT
END:VCALENDAR