BEGIN:VCALENDAR
VERSION:2.0
PRODID:JMS Hockey
X-PUBLISHED-TTL:P1W
BEGIN:VEVENT
UID:69e7d26b155a6
DTSTART:20140522T023000Z
SEQUENCE:0
TRANSP:OPAQUE
DTEND:20140522T040000Z
URL:http://jmshockey.com/games/6426
LOCATION:Maple Grove
SUMMARY:Level 3 Game at Maple Grove
CLASS:PUBLIC
DTSTAMP:20260421T143923Z
END:VEVENT
END:VCALENDAR