BEGIN:VCALENDAR
VERSION:2.0
PRODID:JMS Hockey
X-PUBLISHED-TTL:P1W
BEGIN:VEVENT
UID:69e7cae7af2c1
DTSTART:20140505T013000Z
SEQUENCE:0
TRANSP:OPAQUE
DTEND:20140505T030000Z
URL:http://jmshockey.com/games/6419
LOCATION:Roseville Skating Center
SUMMARY:All level Game at Roseville Skating Center
CLASS:PUBLIC
DTSTAMP:20260421T140719Z
END:VEVENT
END:VCALENDAR