BEGIN:VCALENDAR
VERSION:2.0
PRODID:JMS Hockey
X-PUBLISHED-TTL:P1W
BEGIN:VEVENT
UID:69e7c35e70067
DTSTART:20140803T004500Z
SEQUENCE:0
TRANSP:OPAQUE
DTEND:20140803T021500Z
URL:http://jmshockey.com/games/6406
LOCATION:St Thomas Ice Arena
SUMMARY:All level Game at St Thomas Ice Arena
CLASS:PUBLIC
DTSTAMP:20260421T133510Z
END:VEVENT
END:VCALENDAR