BEGIN:VCALENDAR
VERSION:2.0
PRODID:JMS Hockey
X-PUBLISHED-TTL:P1W
BEGIN:VEVENT
UID:69e79d7a517b0
DTSTART:20140729T024500Z
SEQUENCE:0
TRANSP:OPAQUE
DTEND:20140729T041500Z
URL:http://jmshockey.com/games/6405
LOCATION:St Thomas Ice Arena
SUMMARY:Elite Game at St Thomas Ice Arena
CLASS:PUBLIC
DTSTAMP:20260421T105330Z
END:VEVENT
END:VCALENDAR