BEGIN:VCALENDAR
VERSION:2.0
PRODID:JMS Hockey
X-PUBLISHED-TTL:P1W
BEGIN:VEVENT
UID:69e7cba20aae8
DTSTART:20140504T004500Z
SEQUENCE:0
TRANSP:OPAQUE
DTEND:20140504T021500Z
URL:http://jmshockey.com/games/6390
LOCATION:St Thomas Ice Arena
SUMMARY:All level Game at St Thomas Ice Arena
CLASS:PUBLIC
DTSTAMP:20260421T141026Z
END:VEVENT
END:VCALENDAR